BEGIN:VCALENDAR
VERSION:2.0
PRODID:-//Sanmarkkam - ECPv6.15.20//NONSGML v1.0//EN
CALSCALE:GREGORIAN
METHOD:PUBLISH
X-WR-CALNAME:Sanmarkkam
X-ORIGINAL-URL:https://sanmarkkam.org
X-WR-CALDESC:Events for Sanmarkkam
REFRESH-INTERVAL;VALUE=DURATION:PT1H
X-Robots-Tag:noindex
X-PUBLISHED-TTL:PT1H
BEGIN:VTIMEZONE
TZID:UTC
BEGIN:STANDARD
TZOFFSETFROM:+0000
TZOFFSETTO:+0000
TZNAME:UTC
DTSTART:20240101T000000
END:STANDARD
END:VTIMEZONE
BEGIN:VEVENT
DTSTART;TZID=UTC:20250924T140000
DTEND;TZID=UTC:20250924T170000
DTSTAMP:20260420T073305
CREATED:20250303T072542Z
LAST-MODIFIED:20250303T072542Z
UID:2420-1758722400-1758733200@sanmarkkam.org
SUMMARY:Initial Interview / Open Counselling Session
DESCRIPTION:Who can attend : 1. Anyone who can code. 2. Those with degrees related to computer science such as BE(CS)\, Bsc(CS) \, BCA\, MCA\, ME(CS) Msc(CS) etc.\,
URL:https://sanmarkkam.org/event/initial-interview-open-counselling-session-30/
LOCATION:Vadalur\, Vadalur Sri Jothi Ramalinga Swamigal Sanamarkka Sangam ( Bengaluru sangam )\, Karunai Ilam\, Kalpattu ayya nagar\, Vadalur\, Tamil Nadu\, 607303\, India
CATEGORIES:Vadalur
END:VEVENT
BEGIN:VEVENT
DTSTART;TZID=UTC:20251001T140000
DTEND;TZID=UTC:20251001T170000
DTSTAMP:20260420T073305
CREATED:20250303T072638Z
LAST-MODIFIED:20250303T072638Z
UID:2422-1759327200-1759338000@sanmarkkam.org
SUMMARY:Initial Interview / Open Counselling Session
DESCRIPTION:Who can attend : 1. Anyone who can code. 2. Those with degrees related to computer science such as BE(CS)\, Bsc(CS) \, BCA\, MCA\, ME(CS) Msc(CS) etc.\,
URL:https://sanmarkkam.org/event/initial-interview-open-counselling-session-31/
LOCATION:Vadalur\, Vadalur Sri Jothi Ramalinga Swamigal Sanamarkka Sangam ( Bengaluru sangam )\, Karunai Ilam\, Kalpattu ayya nagar\, Vadalur\, Tamil Nadu\, 607303\, India
CATEGORIES:Vadalur
END:VEVENT
BEGIN:VEVENT
DTSTART;TZID=UTC:20251008T140000
DTEND;TZID=UTC:20251008T170000
DTSTAMP:20260420T073305
CREATED:20250303T072738Z
LAST-MODIFIED:20250303T072738Z
UID:2424-1759932000-1759942800@sanmarkkam.org
SUMMARY:Initial Interview / Open Counselling Session
DESCRIPTION:Who can attend : 1. Anyone who can code. 2. Those with degrees related to computer science such as BE(CS)\, Bsc(CS) \, BCA\, MCA\, ME(CS) Msc(CS) etc.\,
URL:https://sanmarkkam.org/event/initial-interview-open-counselling-session-32/
LOCATION:Vadalur\, Vadalur Sri Jothi Ramalinga Swamigal Sanamarkka Sangam ( Bengaluru sangam )\, Karunai Ilam\, Kalpattu ayya nagar\, Vadalur\, Tamil Nadu\, 607303\, India
CATEGORIES:Vadalur
END:VEVENT
BEGIN:VEVENT
DTSTART;TZID=UTC:20251015T140000
DTEND;TZID=UTC:20251015T170000
DTSTAMP:20260420T073305
CREATED:20250303T072836Z
LAST-MODIFIED:20250303T072836Z
UID:2426-1760536800-1760547600@sanmarkkam.org
SUMMARY:Initial Interview / Open Counselling Session
DESCRIPTION:Who can attend : 1. Anyone who can code. 2. Those with degrees related to computer science such as BE(CS)\, Bsc(CS) \, BCA\, MCA\, ME(CS) Msc(CS) etc.\,
URL:https://sanmarkkam.org/event/initial-interview-open-counselling-session-33/
LOCATION:Vadalur\, Vadalur Sri Jothi Ramalinga Swamigal Sanamarkka Sangam ( Bengaluru sangam )\, Karunai Ilam\, Kalpattu ayya nagar\, Vadalur\, Tamil Nadu\, 607303\, India
CATEGORIES:Vadalur
END:VEVENT
BEGIN:VEVENT
DTSTART;TZID=UTC:20251015T170000
DTEND;TZID=UTC:20251015T173000
DTSTAMP:20260420T073305
CREATED:20250717T051101Z
LAST-MODIFIED:20251014T020223Z
UID:2479-1760547600-1760549400@sanmarkkam.org
SUMMARY:சன்மார்கமும் பொருள் ஈட்டுதலும் கலந்துறையாடல்.
DESCRIPTION:All are welcome
URL:https://sanmarkkam.org/event/%e0%ae%9a%e0%ae%a9%e0%af%8d%e0%ae%ae%e0%ae%be%e0%ae%b0%e0%af%8d%e0%ae%95%e0%ae%ae%e0%af%81%e0%ae%ae%e0%af%8d-%e0%ae%aa%e0%af%8a%e0%ae%b0%e0%af%81%e0%ae%b3%e0%af%8d-%e0%ae%88%e0%ae%9f%e0%af%8d-4/
LOCATION:Vadalur\, Vadalur Sri Jothi Ramalinga Swamigal Sanamarkka Sangam ( Bengaluru sangam )\, Karunai Ilam\, Kalpattu ayya nagar\, Vadalur\, Tamil Nadu\, 607303\, India
CATEGORIES:Vadalur
END:VEVENT
BEGIN:VEVENT
DTSTART;TZID=UTC:20251022T140000
DTEND;TZID=UTC:20251022T170000
DTSTAMP:20260420T073305
CREATED:20250303T072933Z
LAST-MODIFIED:20250303T072933Z
UID:2428-1761141600-1761152400@sanmarkkam.org
SUMMARY:Initial Interview / Open Counselling Session
DESCRIPTION:Who can attend : 1. Anyone who can code. 2. Those with degrees related to computer science such as BE(CS)\, Bsc(CS) \, BCA\, MCA\, ME(CS) Msc(CS) etc.\,
URL:https://sanmarkkam.org/event/initial-interview-open-counselling-session-34/
LOCATION:Vadalur\, Vadalur Sri Jothi Ramalinga Swamigal Sanamarkka Sangam ( Bengaluru sangam )\, Karunai Ilam\, Kalpattu ayya nagar\, Vadalur\, Tamil Nadu\, 607303\, India
CATEGORIES:Vadalur
END:VEVENT
BEGIN:VEVENT
DTSTART;TZID=UTC:20251029T140000
DTEND;TZID=UTC:20251029T170000
DTSTAMP:20260420T073305
CREATED:20250303T073032Z
LAST-MODIFIED:20250303T073032Z
UID:2430-1761746400-1761757200@sanmarkkam.org
SUMMARY:Initial Interview / Open Counselling Session
DESCRIPTION:Who can attend : 1. Anyone who can code. 2. Those with degrees related to computer science such as BE(CS)\, Bsc(CS) \, BCA\, MCA\, ME(CS) Msc(CS) etc.\,
URL:https://sanmarkkam.org/event/initial-interview-open-counselling-session-35/
LOCATION:Vadalur\, Vadalur Sri Jothi Ramalinga Swamigal Sanamarkka Sangam ( Bengaluru sangam )\, Karunai Ilam\, Kalpattu ayya nagar\, Vadalur\, Tamil Nadu\, 607303\, India
CATEGORIES:Vadalur
END:VEVENT
BEGIN:VEVENT
DTSTART;TZID=UTC:20251105T140000
DTEND;TZID=UTC:20251105T170000
DTSTAMP:20260420T073305
CREATED:20250303T073154Z
LAST-MODIFIED:20250303T073154Z
UID:2432-1762351200-1762362000@sanmarkkam.org
SUMMARY:Initial Interview / Open Counselling Session
DESCRIPTION:Who can attend : 1. Anyone who can code. 2. Those with degrees related to computer science such as BE(CS)\, Bsc(CS) \, BCA\, MCA\, ME(CS) Msc(CS) etc.\,
URL:https://sanmarkkam.org/event/initial-interview-open-counselling-session-36/
LOCATION:Vadalur\, Vadalur Sri Jothi Ramalinga Swamigal Sanamarkka Sangam ( Bengaluru sangam )\, Karunai Ilam\, Kalpattu ayya nagar\, Vadalur\, Tamil Nadu\, 607303\, India
CATEGORIES:Vadalur
END:VEVENT
BEGIN:VEVENT
DTSTART;TZID=UTC:20251111T170000
DTEND;TZID=UTC:20251111T173000
DTSTAMP:20260420T073305
CREATED:20250717T051248Z
LAST-MODIFIED:20250717T051248Z
UID:2481-1762880400-1762882200@sanmarkkam.org
SUMMARY:சன்மார்கமும் பொருள் ஈட்டுதலும் கலந்துறையாடல்.
DESCRIPTION:All are welcome
URL:https://sanmarkkam.org/event/%e0%ae%9a%e0%ae%a9%e0%af%8d%e0%ae%ae%e0%ae%be%e0%ae%b0%e0%af%8d%e0%ae%95%e0%ae%ae%e0%af%81%e0%ae%ae%e0%af%8d-%e0%ae%aa%e0%af%8a%e0%ae%b0%e0%af%81%e0%ae%b3%e0%af%8d-%e0%ae%88%e0%ae%9f%e0%af%8d-5/
LOCATION:Vadalur\, Vadalur Sri Jothi Ramalinga Swamigal Sanamarkka Sangam ( Bengaluru sangam )\, Karunai Ilam\, Kalpattu ayya nagar\, Vadalur\, Tamil Nadu\, 607303\, India
CATEGORIES:Vadalur
END:VEVENT
BEGIN:VEVENT
DTSTART;TZID=UTC:20251112T093000
DTEND;TZID=UTC:20251112T110000
DTSTAMP:20260420T073305
CREATED:20250303T073258Z
LAST-MODIFIED:20251106T034611Z
UID:2434-1762939800-1762945200@sanmarkkam.org
SUMMARY:Initial Interview / Open Counselling Session
DESCRIPTION:Who can attend : 1. Anyone who can code. 2. Those with degrees related to computer science such as BE(CS)\, Bsc(CS) \, BCA\, MCA\, ME(CS) Msc(CS) etc.\,
URL:https://sanmarkkam.org/event/initial-interview-open-counselling-session-37/
LOCATION:Vadalur\, Vadalur Sri Jothi Ramalinga Swamigal Sanamarkka Sangam ( Bengaluru sangam )\, Karunai Ilam\, Kalpattu ayya nagar\, Vadalur\, Tamil Nadu\, 607303\, India
CATEGORIES:Vadalur
END:VEVENT
BEGIN:VEVENT
DTSTART;TZID=UTC:20251119T093000
DTEND;TZID=UTC:20251119T110000
DTSTAMP:20260420T073305
CREATED:20250303T073402Z
LAST-MODIFIED:20251106T034648Z
UID:2436-1763544600-1763550000@sanmarkkam.org
SUMMARY:Initial Interview / Open Counselling Session
DESCRIPTION:Who can attend : 1. Anyone who can code. 2. Those with degrees related to computer science such as BE(CS)\, Bsc(CS) \, BCA\, MCA\, ME(CS) Msc(CS) etc.\,
URL:https://sanmarkkam.org/event/initial-interview-open-counselling-session-38/
LOCATION:Vadalur\, Vadalur Sri Jothi Ramalinga Swamigal Sanamarkka Sangam ( Bengaluru sangam )\, Karunai Ilam\, Kalpattu ayya nagar\, Vadalur\, Tamil Nadu\, 607303\, India
CATEGORIES:Vadalur
END:VEVENT
BEGIN:VEVENT
DTSTART;TZID=UTC:20251126T093000
DTEND;TZID=UTC:20251126T110000
DTSTAMP:20260420T073305
CREATED:20250303T073458Z
LAST-MODIFIED:20251106T034724Z
UID:2438-1764149400-1764154800@sanmarkkam.org
SUMMARY:Initial Interview / Open Counselling Session
DESCRIPTION:Who can attend : 1. Anyone who can code. 2. Those with degrees related to computer science such as BE(CS)\, Bsc(CS) \, BCA\, MCA\, ME(CS) Msc(CS) etc.\,
URL:https://sanmarkkam.org/event/initial-interview-open-counselling-session-39/
LOCATION:Vadalur\, Vadalur Sri Jothi Ramalinga Swamigal Sanamarkka Sangam ( Bengaluru sangam )\, Karunai Ilam\, Kalpattu ayya nagar\, Vadalur\, Tamil Nadu\, 607303\, India
CATEGORIES:Vadalur
END:VEVENT
BEGIN:VEVENT
DTSTART;TZID=UTC:20251203T093000
DTEND;TZID=UTC:20251203T110000
DTSTAMP:20260420T073305
CREATED:20250303T073628Z
LAST-MODIFIED:20251106T034806Z
UID:2440-1764754200-1764759600@sanmarkkam.org
SUMMARY:Initial Interview / Open Counselling Session
DESCRIPTION:Who can attend : 1. Anyone who can code. 2. Those with degrees related to computer science such as BE(CS)\, Bsc(CS) \, BCA\, MCA\, ME(CS) Msc(CS) etc.\,
URL:https://sanmarkkam.org/event/initial-interview-open-counselling-session-40/
LOCATION:Vadalur\, Vadalur Sri Jothi Ramalinga Swamigal Sanamarkka Sangam ( Bengaluru sangam )\, Karunai Ilam\, Kalpattu ayya nagar\, Vadalur\, Tamil Nadu\, 607303\, India
CATEGORIES:Vadalur
END:VEVENT
BEGIN:VEVENT
DTSTART;TZID=UTC:20251208T170000
DTEND;TZID=UTC:20251208T173000
DTSTAMP:20260420T073305
CREATED:20250717T051416Z
LAST-MODIFIED:20250717T051416Z
UID:2483-1765213200-1765215000@sanmarkkam.org
SUMMARY:சன்மார்கமும் பொருள் ஈட்டுதலும் கலந்துறையாடல்.
DESCRIPTION:All are welcome
URL:https://sanmarkkam.org/event/%e0%ae%9a%e0%ae%a9%e0%af%8d%e0%ae%ae%e0%ae%be%e0%ae%b0%e0%af%8d%e0%ae%95%e0%ae%ae%e0%af%81%e0%ae%ae%e0%af%8d-%e0%ae%aa%e0%af%8a%e0%ae%b0%e0%af%81%e0%ae%b3%e0%af%8d-%e0%ae%88%e0%ae%9f%e0%af%8d-6/
LOCATION:Vadalur\, Vadalur Sri Jothi Ramalinga Swamigal Sanamarkka Sangam ( Bengaluru sangam )\, Karunai Ilam\, Kalpattu ayya nagar\, Vadalur\, Tamil Nadu\, 607303\, India
CATEGORIES:Vadalur
END:VEVENT
BEGIN:VEVENT
DTSTART;TZID=UTC:20251210T093000
DTEND;TZID=UTC:20251210T110000
DTSTAMP:20260420T073305
CREATED:20250303T073724Z
LAST-MODIFIED:20251106T034839Z
UID:2442-1765359000-1765364400@sanmarkkam.org
SUMMARY:Initial Interview / Open Counselling Session
DESCRIPTION:Who can attend : 1. Anyone who can code. 2. Those with degrees related to computer science such as BE(CS)\, Bsc(CS) \, BCA\, MCA\, ME(CS) Msc(CS) etc.\,
URL:https://sanmarkkam.org/event/initial-interview-open-counselling-session-41/
LOCATION:Vadalur\, Vadalur Sri Jothi Ramalinga Swamigal Sanamarkka Sangam ( Bengaluru sangam )\, Karunai Ilam\, Kalpattu ayya nagar\, Vadalur\, Tamil Nadu\, 607303\, India
CATEGORIES:Vadalur
END:VEVENT
BEGIN:VEVENT
DTSTART;TZID=UTC:20251217T093000
DTEND;TZID=UTC:20251217T110000
DTSTAMP:20260420T073305
CREATED:20250303T073814Z
LAST-MODIFIED:20251106T034911Z
UID:2444-1765963800-1765969200@sanmarkkam.org
SUMMARY:Initial Interview / Open Counselling Session
DESCRIPTION:Who can attend : 1. Anyone who can code. 2. Those with degrees related to computer science such as BE(CS)\, Bsc(CS) \, BCA\, MCA\, ME(CS) Msc(CS) etc.\,
URL:https://sanmarkkam.org/event/initial-interview-open-counselling-session-42/
LOCATION:Vadalur\, Vadalur Sri Jothi Ramalinga Swamigal Sanamarkka Sangam ( Bengaluru sangam )\, Karunai Ilam\, Kalpattu ayya nagar\, Vadalur\, Tamil Nadu\, 607303\, India
CATEGORIES:Vadalur
END:VEVENT
BEGIN:VEVENT
DTSTART;TZID=UTC:20251224T093000
DTEND;TZID=UTC:20251224T110000
DTSTAMP:20260420T073305
CREATED:20250303T073905Z
LAST-MODIFIED:20251106T034943Z
UID:2446-1766568600-1766574000@sanmarkkam.org
SUMMARY:Initial Interview / Open Counselling Session
DESCRIPTION:Who can attend : 1. Anyone who can code. 2. Those with degrees related to computer science such as BE(CS)\, Bsc(CS) \, BCA\, MCA\, ME(CS) Msc(CS) etc.\,
URL:https://sanmarkkam.org/event/initial-interview-open-counselling-session-43/
LOCATION:Vadalur\, Vadalur Sri Jothi Ramalinga Swamigal Sanamarkka Sangam ( Bengaluru sangam )\, Karunai Ilam\, Kalpattu ayya nagar\, Vadalur\, Tamil Nadu\, 607303\, India
CATEGORIES:Vadalur
END:VEVENT
BEGIN:VEVENT
DTSTART;TZID=UTC:20251231T093000
DTEND;TZID=UTC:20251231T110000
DTSTAMP:20260420T073305
CREATED:20250303T073950Z
LAST-MODIFIED:20251106T035019Z
UID:2448-1767173400-1767178800@sanmarkkam.org
SUMMARY:Initial Interview / Open Counselling Session
DESCRIPTION:Who can attend : 1. Anyone who can code. 2. Those with degrees related to computer science such as BE(CS)\, Bsc(CS) \, BCA\, MCA\, ME(CS) Msc(CS) etc.\,
URL:https://sanmarkkam.org/event/initial-interview-open-counselling-session-44/
LOCATION:Vadalur\, Vadalur Sri Jothi Ramalinga Swamigal Sanamarkka Sangam ( Bengaluru sangam )\, Karunai Ilam\, Kalpattu ayya nagar\, Vadalur\, Tamil Nadu\, 607303\, India
CATEGORIES:Vadalur
END:VEVENT
BEGIN:VEVENT
DTSTART;TZID=UTC:20260204T093000
DTEND;TZID=UTC:20260204T110000
DTSTAMP:20260420T073305
CREATED:20260129T031449Z
LAST-MODIFIED:20260129T031544Z
UID:2777-1770197400-1770202800@sanmarkkam.org
SUMMARY:Initial Interview / Open Counselling Session
DESCRIPTION:Who can attend : 1. Anyone who can code. 2. Those with degrees related to computer science such as BE(CS)\, Bsc(CS) \, BCA\, MCA\, ME(CS) Msc(CS) etc.\,
URL:https://sanmarkkam.org/event/initial-interview-open-counselling-session-feb1/
LOCATION:Vadalur\, Vadalur Sri Jothi Ramalinga Swamigal Sanamarkka Sangam ( Bengaluru sangam )\, Karunai Ilam\, Kalpattu ayya nagar\, Vadalur\, Tamil Nadu\, 607303\, India
CATEGORIES:Vadalur
END:VEVENT
BEGIN:VEVENT
DTSTART;TZID=UTC:20260211T093000
DTEND;TZID=UTC:20260211T110000
DTSTAMP:20260420T073305
CREATED:20260129T031642Z
LAST-MODIFIED:20260129T031642Z
UID:2780-1770802200-1770807600@sanmarkkam.org
SUMMARY:Initial Interview / Open Counselling Session
DESCRIPTION:Who can attend : 1. Anyone who can code. 2. Those with degrees related to computer science such as BE(CS)\, Bsc(CS) \, BCA\, MCA\, ME(CS) Msc(CS) etc.\,
URL:https://sanmarkkam.org/event/initial-interview-open-counselling-session-feb2/
LOCATION:Vadalur\, Vadalur Sri Jothi Ramalinga Swamigal Sanamarkka Sangam ( Bengaluru sangam )\, Karunai Ilam\, Kalpattu ayya nagar\, Vadalur\, Tamil Nadu\, 607303\, India
CATEGORIES:Vadalur
END:VEVENT
BEGIN:VEVENT
DTSTART;TZID=UTC:20260218T093000
DTEND;TZID=UTC:20260218T110000
DTSTAMP:20260420T073305
CREATED:20260129T031733Z
LAST-MODIFIED:20260129T031733Z
UID:2782-1771407000-1771412400@sanmarkkam.org
SUMMARY:Initial Interview / Open Counselling Session
DESCRIPTION:Who can attend : 1. Anyone who can code. 2. Those with degrees related to computer science such as BE(CS)\, Bsc(CS) \, BCA\, MCA\, ME(CS) Msc(CS) etc.\,
URL:https://sanmarkkam.org/event/initial-interview-open-counselling-session-feb3/
LOCATION:Vadalur\, Vadalur Sri Jothi Ramalinga Swamigal Sanamarkka Sangam ( Bengaluru sangam )\, Karunai Ilam\, Kalpattu ayya nagar\, Vadalur\, Tamil Nadu\, 607303\, India
CATEGORIES:Vadalur
END:VEVENT
BEGIN:VEVENT
DTSTART;TZID=UTC:20260225T093000
DTEND;TZID=UTC:20260225T110000
DTSTAMP:20260420T073305
CREATED:20260129T031816Z
LAST-MODIFIED:20260129T031816Z
UID:2784-1772011800-1772017200@sanmarkkam.org
SUMMARY:Initial Interview / Open Counselling Session
DESCRIPTION:Who can attend : 1. Anyone who can code. 2. Those with degrees related to computer science such as BE(CS)\, Bsc(CS) \, BCA\, MCA\, ME(CS) Msc(CS) etc.\,
URL:https://sanmarkkam.org/event/initial-interview-open-counselling-session-feb4/
LOCATION:Vadalur\, Vadalur Sri Jothi Ramalinga Swamigal Sanamarkka Sangam ( Bengaluru sangam )\, Karunai Ilam\, Kalpattu ayya nagar\, Vadalur\, Tamil Nadu\, 607303\, India
CATEGORIES:Vadalur
END:VEVENT
BEGIN:VEVENT
DTSTART;TZID=UTC:20260228T170000
DTEND;TZID=UTC:20260228T173000
DTSTAMP:20260420T073305
CREATED:20260129T033201Z
LAST-MODIFIED:20260129T033230Z
UID:2805-1772298000-1772299800@sanmarkkam.org
SUMMARY:சன்மார்கமும் பொருள் ஈட்டுதலும் கலந்துறையாடல்.
DESCRIPTION:All are welcome
URL:https://sanmarkkam.org/event/%e0%ae%9a%e0%ae%a9%e0%af%8d%e0%ae%ae%e0%ae%be%e0%ae%b0%e0%af%8d%e0%ae%95%e0%ae%ae%e0%af%81%e0%ae%ae%e0%af%8d-%e0%ae%aa%e0%af%8a%e0%ae%b0%e0%af%81%e0%ae%b3%e0%af%8d-%e0%ae%88%e0%ae%9f%e0%af%8d-8/
LOCATION:Vadalur\, Vadalur Sri Jothi Ramalinga Swamigal Sanamarkka Sangam ( Bengaluru sangam )\, Karunai Ilam\, Kalpattu ayya nagar\, Vadalur\, Tamil Nadu\, 607303\, India
CATEGORIES:Vadalur
END:VEVENT
BEGIN:VEVENT
DTSTART;TZID=UTC:20260304T093000
DTEND;TZID=UTC:20260304T110000
DTSTAMP:20260420T073305
CREATED:20260129T031924Z
LAST-MODIFIED:20260129T031924Z
UID:2786-1772616600-1772622000@sanmarkkam.org
SUMMARY:Initial Interview / Open Counselling Session
DESCRIPTION:Who can attend : 1. Anyone who can code. 2. Those with degrees related to computer science such as BE(CS)\, Bsc(CS) \, BCA\, MCA\, ME(CS) Msc(CS) etc.\,
URL:https://sanmarkkam.org/event/initial-interview-open-counselling-session-mar1/
LOCATION:Vadalur\, Vadalur Sri Jothi Ramalinga Swamigal Sanamarkka Sangam ( Bengaluru sangam )\, Karunai Ilam\, Kalpattu ayya nagar\, Vadalur\, Tamil Nadu\, 607303\, India
CATEGORIES:Vadalur
END:VEVENT
BEGIN:VEVENT
DTSTART;TZID=UTC:20260311T093000
DTEND;TZID=UTC:20260311T110000
DTSTAMP:20260420T073305
CREATED:20260129T032014Z
LAST-MODIFIED:20260129T032014Z
UID:2788-1773221400-1773226800@sanmarkkam.org
SUMMARY:Initial Interview / Open Counselling Session
DESCRIPTION:Who can attend : 1. Anyone who can code. 2. Those with degrees related to computer science such as BE(CS)\, Bsc(CS) \, BCA\, MCA\, ME(CS) Msc(CS) etc.\,
URL:https://sanmarkkam.org/event/initial-interview-open-counselling-session-mar2/
LOCATION:Vadalur\, Vadalur Sri Jothi Ramalinga Swamigal Sanamarkka Sangam ( Bengaluru sangam )\, Karunai Ilam\, Kalpattu ayya nagar\, Vadalur\, Tamil Nadu\, 607303\, India
CATEGORIES:Vadalur
END:VEVENT
BEGIN:VEVENT
DTSTART;TZID=UTC:20260318T093000
DTEND;TZID=UTC:20260318T110000
DTSTAMP:20260420T073305
CREATED:20260129T032054Z
LAST-MODIFIED:20260129T032108Z
UID:2790-1773826200-1773831600@sanmarkkam.org
SUMMARY:Initial Interview / Open Counselling Session
DESCRIPTION:Who can attend : 1. Anyone who can code. 2. Those with degrees related to computer science such as BE(CS)\, Bsc(CS) \, BCA\, MCA\, ME(CS) Msc(CS) etc.\,
URL:https://sanmarkkam.org/event/initial-interview-open-counselling-session-mar3/
LOCATION:Vadalur\, Vadalur Sri Jothi Ramalinga Swamigal Sanamarkka Sangam ( Bengaluru sangam )\, Karunai Ilam\, Kalpattu ayya nagar\, Vadalur\, Tamil Nadu\, 607303\, India
CATEGORIES:Vadalur
END:VEVENT
BEGIN:VEVENT
DTSTART;TZID=UTC:20260325T093000
DTEND;TZID=UTC:20260325T110000
DTSTAMP:20260420T073305
CREATED:20260129T032201Z
LAST-MODIFIED:20260129T032201Z
UID:2792-1774431000-1774436400@sanmarkkam.org
SUMMARY:Initial Interview / Open Counselling Session
DESCRIPTION:Who can attend : 1. Anyone who can code. 2. Those with degrees related to computer science such as BE(CS)\, Bsc(CS) \, BCA\, MCA\, ME(CS) Msc(CS) etc.\,
URL:https://sanmarkkam.org/event/initial-interview-open-counselling-session-mar4/
LOCATION:Vadalur\, Vadalur Sri Jothi Ramalinga Swamigal Sanamarkka Sangam ( Bengaluru sangam )\, Karunai Ilam\, Kalpattu ayya nagar\, Vadalur\, Tamil Nadu\, 607303\, India
CATEGORIES:Vadalur
END:VEVENT
BEGIN:VEVENT
DTSTART;TZID=UTC:20260327T170000
DTEND;TZID=UTC:20260327T173000
DTSTAMP:20260420T073305
CREATED:20260129T033346Z
LAST-MODIFIED:20260129T033346Z
UID:2808-1774630800-1774632600@sanmarkkam.org
SUMMARY:சன்மார்கமும் பொருள் ஈட்டுதலும் கலந்துறையாடல்.
DESCRIPTION:All are welcome
URL:https://sanmarkkam.org/event/%e0%ae%9a%e0%ae%a9%e0%af%8d%e0%ae%ae%e0%ae%be%e0%ae%b0%e0%af%8d%e0%ae%95%e0%ae%ae%e0%af%81%e0%ae%ae%e0%af%8d-%e0%ae%aa%e0%af%8a%e0%ae%b0%e0%af%81%e0%ae%b3%e0%af%8d-%e0%ae%88%e0%ae%9f%e0%af%8d-8-2/
LOCATION:Vadalur\, Vadalur Sri Jothi Ramalinga Swamigal Sanamarkka Sangam ( Bengaluru sangam )\, Karunai Ilam\, Kalpattu ayya nagar\, Vadalur\, Tamil Nadu\, 607303\, India
CATEGORIES:Vadalur
END:VEVENT
BEGIN:VEVENT
DTSTART;TZID=UTC:20260401T093000
DTEND;TZID=UTC:20260401T110000
DTSTAMP:20260420T073305
CREATED:20260129T032246Z
LAST-MODIFIED:20260129T032246Z
UID:2794-1775035800-1775041200@sanmarkkam.org
SUMMARY:Initial Interview / Open Counselling Session
DESCRIPTION:Who can attend : 1. Anyone who can code. 2. Those with degrees related to computer science such as BE(CS)\, Bsc(CS) \, BCA\, MCA\, ME(CS) Msc(CS) etc.\,
URL:https://sanmarkkam.org/event/initial-interview-open-counselling-session-apr1/
LOCATION:Vadalur\, Vadalur Sri Jothi Ramalinga Swamigal Sanamarkka Sangam ( Bengaluru sangam )\, Karunai Ilam\, Kalpattu ayya nagar\, Vadalur\, Tamil Nadu\, 607303\, India
CATEGORIES:Vadalur
END:VEVENT
BEGIN:VEVENT
DTSTART;TZID=UTC:20260408T093000
DTEND;TZID=UTC:20260408T110000
DTSTAMP:20260420T073305
CREATED:20260129T032336Z
LAST-MODIFIED:20260129T032336Z
UID:2796-1775640600-1775646000@sanmarkkam.org
SUMMARY:Initial Interview / Open Counselling Session
DESCRIPTION:Who can attend : 1. Anyone who can code. 2. Those with degrees related to computer science such as BE(CS)\, Bsc(CS) \, BCA\, MCA\, ME(CS) Msc(CS) etc.\,
URL:https://sanmarkkam.org/event/initial-interview-open-counselling-session-apr2/
LOCATION:Vadalur\, Vadalur Sri Jothi Ramalinga Swamigal Sanamarkka Sangam ( Bengaluru sangam )\, Karunai Ilam\, Kalpattu ayya nagar\, Vadalur\, Tamil Nadu\, 607303\, India
CATEGORIES:Vadalur
END:VEVENT
END:VCALENDAR