BEGIN:VCALENDAR
VERSION:2.0
PRODID:-//Sanmarkkam - ECPv6.15.20//NONSGML v1.0//EN
CALSCALE:GREGORIAN
METHOD:PUBLISH
X-WR-CALNAME:Sanmarkkam
X-ORIGINAL-URL:https://sanmarkkam.org
X-WR-CALDESC:Events for Sanmarkkam
REFRESH-INTERVAL;VALUE=DURATION:PT1H
X-Robots-Tag:noindex
X-PUBLISHED-TTL:PT1H
BEGIN:VTIMEZONE
TZID:UTC
BEGIN:STANDARD
TZOFFSETFROM:+0000
TZOFFSETTO:+0000
TZNAME:UTC
DTSTART:20240101T000000
END:STANDARD
END:VTIMEZONE
BEGIN:VEVENT
DTSTART;TZID=UTC:20250205T140000
DTEND;TZID=UTC:20250205T170000
DTSTAMP:20260420T143811
CREATED:20240718T051556Z
LAST-MODIFIED:20240801T071636Z
UID:2149-1738764000-1738774800@sanmarkkam.org
SUMMARY:IT employment assessment
DESCRIPTION:Who can attend : 1. Anyone who can code. 2. Those with degrees related to computer science such as BE(CS)\, Bsc(CS) \, BCA\, MCA\, ME(CS) Msc(CS) etc.\,
URL:https://sanmarkkam.org/event/it-employment-assessment-30/
LOCATION:Vadalur\, Vadalur Sri Jothi Ramalinga Swamigal Sanamarkka Sangam ( Bengaluru sangam )\, Karunai Ilam\, Kalpattu ayya nagar\, Vadalur\, Tamil Nadu\, 607303\, India
CATEGORIES:Vadalur
END:VEVENT
BEGIN:VEVENT
DTSTART;TZID=UTC:20250212T140000
DTEND;TZID=UTC:20250212T170000
DTSTAMP:20260420T143811
CREATED:20240718T051621Z
LAST-MODIFIED:20240801T071701Z
UID:2151-1739368800-1739379600@sanmarkkam.org
SUMMARY:IT employment assessment
DESCRIPTION:Who can attend : 1. Anyone who can code. 2. Those with degrees related to computer science such as BE(CS)\, Bsc(CS) \, BCA\, MCA\, ME(CS) Msc(CS) etc.\,
URL:https://sanmarkkam.org/event/it-employment-assessment-31/
LOCATION:Vadalur\, Vadalur Sri Jothi Ramalinga Swamigal Sanamarkka Sangam ( Bengaluru sangam )\, Karunai Ilam\, Kalpattu ayya nagar\, Vadalur\, Tamil Nadu\, 607303\, India
CATEGORIES:Vadalur
END:VEVENT
BEGIN:VEVENT
DTSTART;TZID=UTC:20250219T140000
DTEND;TZID=UTC:20250219T170000
DTSTAMP:20260420T143811
CREATED:20240718T051646Z
LAST-MODIFIED:20240801T071722Z
UID:2153-1739973600-1739984400@sanmarkkam.org
SUMMARY:IT employment assessment
DESCRIPTION:Who can attend : 1. Anyone who can code. 2. Those with degrees related to computer science such as BE(CS)\, Bsc(CS) \, BCA\, MCA\, ME(CS) Msc(CS) etc.\,
URL:https://sanmarkkam.org/event/it-employment-assessment-32/
LOCATION:Vadalur\, Vadalur Sri Jothi Ramalinga Swamigal Sanamarkka Sangam ( Bengaluru sangam )\, Karunai Ilam\, Kalpattu ayya nagar\, Vadalur\, Tamil Nadu\, 607303\, India
CATEGORIES:Vadalur
END:VEVENT
BEGIN:VEVENT
DTSTART;TZID=UTC:20250226T140000
DTEND;TZID=UTC:20250226T170000
DTSTAMP:20260420T143811
CREATED:20240718T051709Z
LAST-MODIFIED:20240801T071743Z
UID:2155-1740578400-1740589200@sanmarkkam.org
SUMMARY:IT employment assessment
DESCRIPTION:Who can attend : 1. Anyone who can code. 2. Those with degrees related to computer science such as BE(CS)\, Bsc(CS) \, BCA\, MCA\, ME(CS) Msc(CS) etc.\,
URL:https://sanmarkkam.org/event/it-employment-assessment-33/
LOCATION:Vadalur\, Vadalur Sri Jothi Ramalinga Swamigal Sanamarkka Sangam ( Bengaluru sangam )\, Karunai Ilam\, Kalpattu ayya nagar\, Vadalur\, Tamil Nadu\, 607303\, India
CATEGORIES:Vadalur
END:VEVENT
BEGIN:VEVENT
DTSTART;TZID=UTC:20250305T140000
DTEND;TZID=UTC:20250305T170000
DTSTAMP:20260420T143811
CREATED:20250303T050636Z
LAST-MODIFIED:20250303T052012Z
UID:2319-1741183200-1741194000@sanmarkkam.org
SUMMARY:Initial Interview / Open Counselling Session
DESCRIPTION:Who can attend : 1. Anyone who can code. 2. Those with degrees related to computer science such as BE(CS)\, Bsc(CS) \, BCA\, MCA\, ME(CS) Msc(CS) etc.\,
URL:https://sanmarkkam.org/event/initial-interview-open-counselling-session/
LOCATION:Vadalur\, Vadalur Sri Jothi Ramalinga Swamigal Sanamarkka Sangam ( Bengaluru sangam )\, Karunai Ilam\, Kalpattu ayya nagar\, Vadalur\, Tamil Nadu\, 607303\, India
CATEGORIES:Vadalur
END:VEVENT
BEGIN:VEVENT
DTSTART;TZID=UTC:20250310T100000
DTEND;TZID=UTC:20250310T130000
DTSTAMP:20260420T143811
CREATED:20250303T053721Z
LAST-MODIFIED:20250303T053721Z
UID:2324-1741600800-1741611600@sanmarkkam.org
SUMMARY:Second-round interview / Invite only Counselling
DESCRIPTION:
URL:https://sanmarkkam.org/event/initial-interview-open-counselling-session-1/
LOCATION:Vadalur\, Vadalur Sri Jothi Ramalinga Swamigal Sanamarkka Sangam ( Bengaluru sangam )\, Karunai Ilam\, Kalpattu ayya nagar\, Vadalur\, Tamil Nadu\, 607303\, India
CATEGORIES:Vadalur
END:VEVENT
BEGIN:VEVENT
DTSTART;TZID=UTC:20250312T140000
DTEND;TZID=UTC:20250312T170000
DTSTAMP:20260420T143811
CREATED:20250303T063338Z
LAST-MODIFIED:20250303T063338Z
UID:2352-1741788000-1741798800@sanmarkkam.org
SUMMARY:Initial Interview / Open Counselling Session
DESCRIPTION:Who can attend : 1. Anyone who can code. 2. Those with degrees related to computer science such as BE(CS)\, Bsc(CS) \, BCA\, MCA\, ME(CS) Msc(CS) etc.\,
URL:https://sanmarkkam.org/event/initial-interview-open-counselling-session-2/
LOCATION:Vadalur\, Vadalur Sri Jothi Ramalinga Swamigal Sanamarkka Sangam ( Bengaluru sangam )\, Karunai Ilam\, Kalpattu ayya nagar\, Vadalur\, Tamil Nadu\, 607303\, India
CATEGORIES:Vadalur
END:VEVENT
BEGIN:VEVENT
DTSTART;TZID=UTC:20250319T140000
DTEND;TZID=UTC:20250319T170000
DTSTAMP:20260420T143811
CREATED:20250303T063456Z
LAST-MODIFIED:20250303T063456Z
UID:2354-1742392800-1742403600@sanmarkkam.org
SUMMARY:Initial Interview / Open Counselling Session
DESCRIPTION:Who can attend : 1. Anyone who can code. 2. Those with degrees related to computer science such as BE(CS)\, Bsc(CS) \, BCA\, MCA\, ME(CS) Msc(CS) etc.\,
URL:https://sanmarkkam.org/event/initial-interview-open-counselling-session-3/
LOCATION:Vadalur\, Vadalur Sri Jothi Ramalinga Swamigal Sanamarkka Sangam ( Bengaluru sangam )\, Karunai Ilam\, Kalpattu ayya nagar\, Vadalur\, Tamil Nadu\, 607303\, India
CATEGORIES:Vadalur
END:VEVENT
BEGIN:VEVENT
DTSTART;TZID=UTC:20250326T140000
DTEND;TZID=UTC:20250326T170000
DTSTAMP:20260420T143811
CREATED:20250303T063613Z
LAST-MODIFIED:20250303T063613Z
UID:2356-1742997600-1743008400@sanmarkkam.org
SUMMARY:Initial Interview / Open Counselling Session
DESCRIPTION:Who can attend : 1. Anyone who can code. 2. Those with degrees related to computer science such as BE(CS)\, Bsc(CS) \, BCA\, MCA\, ME(CS) Msc(CS) etc.\,
URL:https://sanmarkkam.org/event/initial-interview-open-counselling-session-4/
LOCATION:Vadalur\, Vadalur Sri Jothi Ramalinga Swamigal Sanamarkka Sangam ( Bengaluru sangam )\, Karunai Ilam\, Kalpattu ayya nagar\, Vadalur\, Tamil Nadu\, 607303\, India
CATEGORIES:Vadalur
END:VEVENT
BEGIN:VEVENT
DTSTART;TZID=UTC:20250402T140000
DTEND;TZID=UTC:20250402T170000
DTSTAMP:20260420T143811
CREATED:20250303T063804Z
LAST-MODIFIED:20250303T063804Z
UID:2358-1743602400-1743613200@sanmarkkam.org
SUMMARY:Initial Interview / Open Counselling Session
DESCRIPTION:Who can attend : 1. Anyone who can code. 2. Those with degrees related to computer science such as BE(CS)\, Bsc(CS) \, BCA\, MCA\, ME(CS) Msc(CS) etc.\,
URL:https://sanmarkkam.org/event/initial-interview-open-counselling-session-5/
LOCATION:Vadalur\, Vadalur Sri Jothi Ramalinga Swamigal Sanamarkka Sangam ( Bengaluru sangam )\, Karunai Ilam\, Kalpattu ayya nagar\, Vadalur\, Tamil Nadu\, 607303\, India
CATEGORIES:Vadalur
END:VEVENT
BEGIN:VEVENT
DTSTART;TZID=UTC:20250406T100000
DTEND;TZID=UTC:20250406T130000
DTSTAMP:20260420T143811
CREATED:20250303T054103Z
LAST-MODIFIED:20250303T054103Z
UID:2326-1743933600-1743944400@sanmarkkam.org
SUMMARY:Second-round interview / Invite only Counselling
DESCRIPTION:
URL:https://sanmarkkam.org/event/second-round-interview-invite-only-counselling-2/
LOCATION:Vadalur\, Vadalur Sri Jothi Ramalinga Swamigal Sanamarkka Sangam ( Bengaluru sangam )\, Karunai Ilam\, Kalpattu ayya nagar\, Vadalur\, Tamil Nadu\, 607303\, India
CATEGORIES:Vadalur
END:VEVENT
BEGIN:VEVENT
DTSTART;TZID=UTC:20250409T140000
DTEND;TZID=UTC:20250409T170000
DTSTAMP:20260420T143811
CREATED:20250303T063903Z
LAST-MODIFIED:20250303T063903Z
UID:2360-1744207200-1744218000@sanmarkkam.org
SUMMARY:Initial Interview / Open Counselling Session
DESCRIPTION:Who can attend : 1. Anyone who can code. 2. Those with degrees related to computer science such as BE(CS)\, Bsc(CS) \, BCA\, MCA\, ME(CS) Msc(CS) etc.\,
URL:https://sanmarkkam.org/event/initial-interview-open-counselling-session-6/
LOCATION:Vadalur\, Vadalur Sri Jothi Ramalinga Swamigal Sanamarkka Sangam ( Bengaluru sangam )\, Karunai Ilam\, Kalpattu ayya nagar\, Vadalur\, Tamil Nadu\, 607303\, India
CATEGORIES:Vadalur
END:VEVENT
BEGIN:VEVENT
DTSTART;TZID=UTC:20250416T140000
DTEND;TZID=UTC:20250416T170000
DTSTAMP:20260420T143811
CREATED:20250303T064001Z
LAST-MODIFIED:20250303T064001Z
UID:2362-1744812000-1744822800@sanmarkkam.org
SUMMARY:Initial Interview / Open Counselling Session
DESCRIPTION:Who can attend : 1. Anyone who can code. 2. Those with degrees related to computer science such as BE(CS)\, Bsc(CS) \, BCA\, MCA\, ME(CS) Msc(CS) etc.\,
URL:https://sanmarkkam.org/event/initial-interview-open-counselling-session-7/
LOCATION:Vadalur\, Vadalur Sri Jothi Ramalinga Swamigal Sanamarkka Sangam ( Bengaluru sangam )\, Karunai Ilam\, Kalpattu ayya nagar\, Vadalur\, Tamil Nadu\, 607303\, India
CATEGORIES:Vadalur
END:VEVENT
BEGIN:VEVENT
DTSTART;TZID=UTC:20250423T140000
DTEND;TZID=UTC:20250423T170000
DTSTAMP:20260420T143811
CREATED:20250303T064104Z
LAST-MODIFIED:20250303T064104Z
UID:2364-1745416800-1745427600@sanmarkkam.org
SUMMARY:Initial Interview / Open Counselling Session
DESCRIPTION:Who can attend : 1. Anyone who can code. 2. Those with degrees related to computer science such as BE(CS)\, Bsc(CS) \, BCA\, MCA\, ME(CS) Msc(CS) etc.\,
URL:https://sanmarkkam.org/event/initial-interview-open-counselling-session-8/
LOCATION:Vadalur\, Vadalur Sri Jothi Ramalinga Swamigal Sanamarkka Sangam ( Bengaluru sangam )\, Karunai Ilam\, Kalpattu ayya nagar\, Vadalur\, Tamil Nadu\, 607303\, India
CATEGORIES:Vadalur
END:VEVENT
BEGIN:VEVENT
DTSTART;TZID=UTC:20250430T140000
DTEND;TZID=UTC:20250430T170000
DTSTAMP:20260420T143811
CREATED:20250303T064200Z
LAST-MODIFIED:20250303T064200Z
UID:2366-1746021600-1746032400@sanmarkkam.org
SUMMARY:Initial Interview / Open Counselling Session
DESCRIPTION:Who can attend : 1. Anyone who can code. 2. Those with degrees related to computer science such as BE(CS)\, Bsc(CS) \, BCA\, MCA\, ME(CS) Msc(CS) etc.\,
URL:https://sanmarkkam.org/event/initial-interview-open-counselling-session-9/
LOCATION:Vadalur\, Vadalur Sri Jothi Ramalinga Swamigal Sanamarkka Sangam ( Bengaluru sangam )\, Karunai Ilam\, Kalpattu ayya nagar\, Vadalur\, Tamil Nadu\, 607303\, India
CATEGORIES:Vadalur
END:VEVENT
BEGIN:VEVENT
DTSTART;TZID=UTC:20250503T100000
DTEND;TZID=UTC:20250503T130000
DTSTAMP:20260420T143811
CREATED:20250303T054252Z
LAST-MODIFIED:20250303T054252Z
UID:2328-1746266400-1746277200@sanmarkkam.org
SUMMARY:Second-round interview / Invite only Counselling
DESCRIPTION:
URL:https://sanmarkkam.org/event/second-round-interview-invite-only-counselling-3/
LOCATION:Vadalur\, Vadalur Sri Jothi Ramalinga Swamigal Sanamarkka Sangam ( Bengaluru sangam )\, Karunai Ilam\, Kalpattu ayya nagar\, Vadalur\, Tamil Nadu\, 607303\, India
CATEGORIES:Vadalur
END:VEVENT
BEGIN:VEVENT
DTSTART;TZID=UTC:20250507T140000
DTEND;TZID=UTC:20250507T170000
DTSTAMP:20260420T143811
CREATED:20250303T064309Z
LAST-MODIFIED:20250303T064309Z
UID:2368-1746626400-1746637200@sanmarkkam.org
SUMMARY:Initial Interview / Open Counselling Session
DESCRIPTION:Who can attend : 1. Anyone who can code. 2. Those with degrees related to computer science such as BE(CS)\, Bsc(CS) \, BCA\, MCA\, ME(CS) Msc(CS) etc.\,
URL:https://sanmarkkam.org/event/initial-interview-open-counselling-session-10/
LOCATION:Vadalur\, Vadalur Sri Jothi Ramalinga Swamigal Sanamarkka Sangam ( Bengaluru sangam )\, Karunai Ilam\, Kalpattu ayya nagar\, Vadalur\, Tamil Nadu\, 607303\, India
CATEGORIES:Vadalur
END:VEVENT
BEGIN:VEVENT
DTSTART;TZID=UTC:20250514T140000
DTEND;TZID=UTC:20250514T170000
DTSTAMP:20260420T143811
CREATED:20250303T064407Z
LAST-MODIFIED:20250303T064407Z
UID:2370-1747231200-1747242000@sanmarkkam.org
SUMMARY:Initial Interview / Open Counselling Session
DESCRIPTION:Who can attend : 1. Anyone who can code. 2. Those with degrees related to computer science such as BE(CS)\, Bsc(CS) \, BCA\, MCA\, ME(CS) Msc(CS) etc.\,
URL:https://sanmarkkam.org/event/initial-interview-open-counselling-session-11/
LOCATION:Vadalur\, Vadalur Sri Jothi Ramalinga Swamigal Sanamarkka Sangam ( Bengaluru sangam )\, Karunai Ilam\, Kalpattu ayya nagar\, Vadalur\, Tamil Nadu\, 607303\, India
CATEGORIES:Vadalur
END:VEVENT
BEGIN:VEVENT
DTSTART;TZID=UTC:20250521T140000
DTEND;TZID=UTC:20250521T170000
DTSTAMP:20260420T143811
CREATED:20250303T064505Z
LAST-MODIFIED:20250303T064505Z
UID:2372-1747836000-1747846800@sanmarkkam.org
SUMMARY:Initial Interview / Open Counselling Session
DESCRIPTION:Who can attend : 1. Anyone who can code. 2. Those with degrees related to computer science such as BE(CS)\, Bsc(CS) \, BCA\, MCA\, ME(CS) Msc(CS) etc.\,
URL:https://sanmarkkam.org/event/initial-interview-open-counselling-session-12/
LOCATION:Vadalur\, Vadalur Sri Jothi Ramalinga Swamigal Sanamarkka Sangam ( Bengaluru sangam )\, Karunai Ilam\, Kalpattu ayya nagar\, Vadalur\, Tamil Nadu\, 607303\, India
CATEGORIES:Vadalur
END:VEVENT
BEGIN:VEVENT
DTSTART;TZID=UTC:20250528T140000
DTEND;TZID=UTC:20250528T170000
DTSTAMP:20260420T143811
CREATED:20250303T064556Z
LAST-MODIFIED:20250303T064556Z
UID:2374-1748440800-1748451600@sanmarkkam.org
SUMMARY:Initial Interview / Open Counselling Session
DESCRIPTION:Who can attend : 1. Anyone who can code. 2. Those with degrees related to computer science such as BE(CS)\, Bsc(CS) \, BCA\, MCA\, ME(CS) Msc(CS) etc.\,
URL:https://sanmarkkam.org/event/initial-interview-open-counselling-session-13/
LOCATION:Vadalur\, Vadalur Sri Jothi Ramalinga Swamigal Sanamarkka Sangam ( Bengaluru sangam )\, Karunai Ilam\, Kalpattu ayya nagar\, Vadalur\, Tamil Nadu\, 607303\, India
CATEGORIES:Vadalur
END:VEVENT
BEGIN:VEVENT
DTSTART;TZID=UTC:20250531T100000
DTEND;TZID=UTC:20250531T130000
DTSTAMP:20260420T143811
CREATED:20250303T054421Z
LAST-MODIFIED:20250303T054421Z
UID:2330-1748685600-1748696400@sanmarkkam.org
SUMMARY:Second-round interview / Invite only Counselling
DESCRIPTION:
URL:https://sanmarkkam.org/event/second-round-interview-invite-only-counselling-4/
LOCATION:Vadalur\, Vadalur Sri Jothi Ramalinga Swamigal Sanamarkka Sangam ( Bengaluru sangam )\, Karunai Ilam\, Kalpattu ayya nagar\, Vadalur\, Tamil Nadu\, 607303\, India
CATEGORIES:Vadalur
END:VEVENT
BEGIN:VEVENT
DTSTART;TZID=UTC:20250604T140000
DTEND;TZID=UTC:20250604T170000
DTSTAMP:20260420T143811
CREATED:20250303T064708Z
LAST-MODIFIED:20250303T064708Z
UID:2376-1749045600-1749056400@sanmarkkam.org
SUMMARY:Initial Interview / Open Counselling Session
DESCRIPTION:Who can attend : 1. Anyone who can code. 2. Those with degrees related to computer science such as BE(CS)\, Bsc(CS) \, BCA\, MCA\, ME(CS) Msc(CS) etc.\,
URL:https://sanmarkkam.org/event/initial-interview-open-counselling-session-14/
LOCATION:Vadalur\, Vadalur Sri Jothi Ramalinga Swamigal Sanamarkka Sangam ( Bengaluru sangam )\, Karunai Ilam\, Kalpattu ayya nagar\, Vadalur\, Tamil Nadu\, 607303\, India
CATEGORIES:Vadalur
END:VEVENT
BEGIN:VEVENT
DTSTART;TZID=UTC:20250611T140000
DTEND;TZID=UTC:20250611T170000
DTSTAMP:20260420T143811
CREATED:20250303T064803Z
LAST-MODIFIED:20250303T064803Z
UID:2378-1749650400-1749661200@sanmarkkam.org
SUMMARY:Initial Interview / Open Counselling Session
DESCRIPTION:Who can attend : 1. Anyone who can code. 2. Those with degrees related to computer science such as BE(CS)\, Bsc(CS) \, BCA\, MCA\, ME(CS) Msc(CS) etc.\,
URL:https://sanmarkkam.org/event/initial-interview-open-counselling-session-15/
LOCATION:Vadalur\, Vadalur Sri Jothi Ramalinga Swamigal Sanamarkka Sangam ( Bengaluru sangam )\, Karunai Ilam\, Kalpattu ayya nagar\, Vadalur\, Tamil Nadu\, 607303\, India
CATEGORIES:Vadalur
END:VEVENT
BEGIN:VEVENT
DTSTART;TZID=UTC:20250618T140000
DTEND;TZID=UTC:20250618T170000
DTSTAMP:20260420T143811
CREATED:20250303T064904Z
LAST-MODIFIED:20250303T064904Z
UID:2380-1750255200-1750266000@sanmarkkam.org
SUMMARY:Initial Interview / Open Counselling Session
DESCRIPTION:Who can attend : 1. Anyone who can code. 2. Those with degrees related to computer science such as BE(CS)\, Bsc(CS) \, BCA\, MCA\, ME(CS) Msc(CS) etc.\,
URL:https://sanmarkkam.org/event/initial-interview-open-counselling-session-16/
LOCATION:Vadalur\, Vadalur Sri Jothi Ramalinga Swamigal Sanamarkka Sangam ( Bengaluru sangam )\, Karunai Ilam\, Kalpattu ayya nagar\, Vadalur\, Tamil Nadu\, 607303\, India
CATEGORIES:Vadalur
END:VEVENT
BEGIN:VEVENT
DTSTART;TZID=UTC:20250625T140000
DTEND;TZID=UTC:20250625T170000
DTSTAMP:20260420T143811
CREATED:20250303T064951Z
LAST-MODIFIED:20250303T064951Z
UID:2382-1750860000-1750870800@sanmarkkam.org
SUMMARY:Initial Interview / Open Counselling Session
DESCRIPTION:Who can attend : 1. Anyone who can code. 2. Those with degrees related to computer science such as BE(CS)\, Bsc(CS) \, BCA\, MCA\, ME(CS) Msc(CS) etc.\,
URL:https://sanmarkkam.org/event/initial-interview-open-counselling-session-17/
LOCATION:Vadalur\, Vadalur Sri Jothi Ramalinga Swamigal Sanamarkka Sangam ( Bengaluru sangam )\, Karunai Ilam\, Kalpattu ayya nagar\, Vadalur\, Tamil Nadu\, 607303\, India
CATEGORIES:Vadalur
END:VEVENT
BEGIN:VEVENT
DTSTART;TZID=UTC:20250627T100000
DTEND;TZID=UTC:20250627T130000
DTSTAMP:20260420T143811
CREATED:20250303T054616Z
LAST-MODIFIED:20250303T054616Z
UID:2332-1751018400-1751029200@sanmarkkam.org
SUMMARY:Second-round interview / Invite only Counselling
DESCRIPTION:
URL:https://sanmarkkam.org/event/second-round-interview-invite-only-counselling-5/
LOCATION:Vadalur\, Vadalur Sri Jothi Ramalinga Swamigal Sanamarkka Sangam ( Bengaluru sangam )\, Karunai Ilam\, Kalpattu ayya nagar\, Vadalur\, Tamil Nadu\, 607303\, India
CATEGORIES:Vadalur
END:VEVENT
BEGIN:VEVENT
DTSTART;TZID=UTC:20250702T140000
DTEND;TZID=UTC:20250702T170000
DTSTAMP:20260420T143811
CREATED:20250303T065052Z
LAST-MODIFIED:20250303T065052Z
UID:2384-1751464800-1751475600@sanmarkkam.org
SUMMARY:Initial Interview / Open Counselling Session
DESCRIPTION:Who can attend : 1. Anyone who can code. 2. Those with degrees related to computer science such as BE(CS)\, Bsc(CS) \, BCA\, MCA\, ME(CS) Msc(CS) etc.\,
URL:https://sanmarkkam.org/event/initial-interview-open-counselling-session-18/
LOCATION:Vadalur\, Vadalur Sri Jothi Ramalinga Swamigal Sanamarkka Sangam ( Bengaluru sangam )\, Karunai Ilam\, Kalpattu ayya nagar\, Vadalur\, Tamil Nadu\, 607303\, India
CATEGORIES:Vadalur
END:VEVENT
BEGIN:VEVENT
DTSTART;TZID=UTC:20250709T140000
DTEND;TZID=UTC:20250709T170000
DTSTAMP:20260420T143811
CREATED:20250303T065142Z
LAST-MODIFIED:20250303T065142Z
UID:2386-1752069600-1752080400@sanmarkkam.org
SUMMARY:Initial Interview / Open Counselling Session
DESCRIPTION:Who can attend : 1. Anyone who can code. 2. Those with degrees related to computer science such as BE(CS)\, Bsc(CS) \, BCA\, MCA\, ME(CS) Msc(CS) etc.\,
URL:https://sanmarkkam.org/event/initial-interview-open-counselling-session-19/
LOCATION:Vadalur\, Vadalur Sri Jothi Ramalinga Swamigal Sanamarkka Sangam ( Bengaluru sangam )\, Karunai Ilam\, Kalpattu ayya nagar\, Vadalur\, Tamil Nadu\, 607303\, India
CATEGORIES:Vadalur
END:VEVENT
BEGIN:VEVENT
DTSTART;TZID=UTC:20250716T140000
DTEND;TZID=UTC:20250716T170000
DTSTAMP:20260420T143811
CREATED:20250303T065226Z
LAST-MODIFIED:20250303T065226Z
UID:2388-1752674400-1752685200@sanmarkkam.org
SUMMARY:Initial Interview / Open Counselling Session
DESCRIPTION:Who can attend : 1. Anyone who can code. 2. Those with degrees related to computer science such as BE(CS)\, Bsc(CS) \, BCA\, MCA\, ME(CS) Msc(CS) etc.\,
URL:https://sanmarkkam.org/event/initial-interview-open-counselling-session-20/
LOCATION:Vadalur\, Vadalur Sri Jothi Ramalinga Swamigal Sanamarkka Sangam ( Bengaluru sangam )\, Karunai Ilam\, Kalpattu ayya nagar\, Vadalur\, Tamil Nadu\, 607303\, India
CATEGORIES:Vadalur
END:VEVENT
BEGIN:VEVENT
DTSTART;TZID=UTC:20250723T140000
DTEND;TZID=UTC:20250723T170000
DTSTAMP:20260420T143811
CREATED:20250303T065315Z
LAST-MODIFIED:20250303T065315Z
UID:2390-1753279200-1753290000@sanmarkkam.org
SUMMARY:Initial Interview / Open Counselling Session
DESCRIPTION:Who can attend : 1. Anyone who can code. 2. Those with degrees related to computer science such as BE(CS)\, Bsc(CS) \, BCA\, MCA\, ME(CS) Msc(CS) etc.\,
URL:https://sanmarkkam.org/event/initial-interview-open-counselling-session-21/
LOCATION:Vadalur\, Vadalur Sri Jothi Ramalinga Swamigal Sanamarkka Sangam ( Bengaluru sangam )\, Karunai Ilam\, Kalpattu ayya nagar\, Vadalur\, Tamil Nadu\, 607303\, India
CATEGORIES:Vadalur
END:VEVENT
END:VCALENDAR