BEGIN:VCALENDAR
VERSION:2.0
PRODID:-//Sanmarkkam - ECPv6.15.20//NONSGML v1.0//EN
CALSCALE:GREGORIAN
METHOD:PUBLISH
X-ORIGINAL-URL:https://sanmarkkam.org
X-WR-CALDESC:Events for Sanmarkkam
REFRESH-INTERVAL;VALUE=DURATION:PT1H
X-Robots-Tag:noindex
X-PUBLISHED-TTL:PT1H
BEGIN:VTIMEZONE
TZID:UTC
BEGIN:STANDARD
TZOFFSETFROM:+0000
TZOFFSETTO:+0000
TZNAME:UTC
DTSTART:20230101T000000
END:STANDARD
END:VTIMEZONE
BEGIN:VEVENT
DTSTART;TZID=UTC:20241211T140000
DTEND;TZID=UTC:20241211T170000
DTSTAMP:20260420T112226
CREATED:20240718T050915Z
LAST-MODIFIED:20240801T071312Z
UID:2131-1733925600-1733936400@sanmarkkam.org
SUMMARY:IT employment assessment
DESCRIPTION:Who can attend : 1. Anyone who can code. 2. Those with degrees related to computer science such as BE(CS)\, Bsc(CS) \, BCA\, MCA\, ME(CS) Msc(CS) etc.\,
URL:https://sanmarkkam.org/event/it-employment-assessment-21/
LOCATION:Vadalur\, Vadalur Sri Jothi Ramalinga Swamigal Sanamarkka Sangam ( Bengaluru sangam )\, Karunai Ilam\, Kalpattu ayya nagar\, Vadalur\, Tamil Nadu\, 607303\, India
CATEGORIES:Vadalur
END:VEVENT
END:VCALENDAR