BEGIN:VCALENDAR
VERSION:2.0
PRODID:-//Sanmarkkam - ECPv6.15.20//NONSGML v1.0//EN
CALSCALE:GREGORIAN
METHOD:PUBLISH
X-WR-CALNAME:Sanmarkkam
X-ORIGINAL-URL:https://sanmarkkam.org
X-WR-CALDESC:Events for Sanmarkkam
REFRESH-INTERVAL;VALUE=DURATION:PT1H
X-Robots-Tag:noindex
X-PUBLISHED-TTL:PT1H
BEGIN:VTIMEZONE
TZID:UTC
BEGIN:STANDARD
TZOFFSETFROM:+0000
TZOFFSETTO:+0000
TZNAME:UTC
DTSTART:20240101T000000
END:STANDARD
END:VTIMEZONE
BEGIN:VEVENT
DTSTART;TZID=UTC:20251001T140000
DTEND;TZID=UTC:20251001T170000
DTSTAMP:20260419T183916
CREATED:20250303T072638Z
LAST-MODIFIED:20250303T072638Z
UID:2422-1759327200-1759338000@sanmarkkam.org
SUMMARY:Initial Interview / Open Counselling Session
DESCRIPTION:Who can attend : 1. Anyone who can code. 2. Those with degrees related to computer science such as BE(CS)\, Bsc(CS) \, BCA\, MCA\, ME(CS) Msc(CS) etc.\,
URL:https://sanmarkkam.org/event/initial-interview-open-counselling-session-31/
LOCATION:Vadalur\, Vadalur Sri Jothi Ramalinga Swamigal Sanamarkka Sangam ( Bengaluru sangam )\, Karunai Ilam\, Kalpattu ayya nagar\, Vadalur\, Tamil Nadu\, 607303\, India
CATEGORIES:Vadalur
END:VEVENT
BEGIN:VEVENT
DTSTART;TZID=UTC:20251008T140000
DTEND;TZID=UTC:20251008T170000
DTSTAMP:20260419T183916
CREATED:20250303T072738Z
LAST-MODIFIED:20250303T072738Z
UID:2424-1759932000-1759942800@sanmarkkam.org
SUMMARY:Initial Interview / Open Counselling Session
DESCRIPTION:Who can attend : 1. Anyone who can code. 2. Those with degrees related to computer science such as BE(CS)\, Bsc(CS) \, BCA\, MCA\, ME(CS) Msc(CS) etc.\,
URL:https://sanmarkkam.org/event/initial-interview-open-counselling-session-32/
LOCATION:Vadalur\, Vadalur Sri Jothi Ramalinga Swamigal Sanamarkka Sangam ( Bengaluru sangam )\, Karunai Ilam\, Kalpattu ayya nagar\, Vadalur\, Tamil Nadu\, 607303\, India
CATEGORIES:Vadalur
END:VEVENT
BEGIN:VEVENT
DTSTART;TZID=UTC:20251015T140000
DTEND;TZID=UTC:20251015T170000
DTSTAMP:20260419T183916
CREATED:20250303T072836Z
LAST-MODIFIED:20250303T072836Z
UID:2426-1760536800-1760547600@sanmarkkam.org
SUMMARY:Initial Interview / Open Counselling Session
DESCRIPTION:Who can attend : 1. Anyone who can code. 2. Those with degrees related to computer science such as BE(CS)\, Bsc(CS) \, BCA\, MCA\, ME(CS) Msc(CS) etc.\,
URL:https://sanmarkkam.org/event/initial-interview-open-counselling-session-33/
LOCATION:Vadalur\, Vadalur Sri Jothi Ramalinga Swamigal Sanamarkka Sangam ( Bengaluru sangam )\, Karunai Ilam\, Kalpattu ayya nagar\, Vadalur\, Tamil Nadu\, 607303\, India
CATEGORIES:Vadalur
END:VEVENT
BEGIN:VEVENT
DTSTART;TZID=UTC:20251015T170000
DTEND;TZID=UTC:20251015T173000
DTSTAMP:20260419T183916
CREATED:20250717T051101Z
LAST-MODIFIED:20251014T020223Z
UID:2479-1760547600-1760549400@sanmarkkam.org
SUMMARY:சன்மார்கமும் பொருள் ஈட்டுதலும் கலந்துறையாடல்.
DESCRIPTION:All are welcome
URL:https://sanmarkkam.org/event/%e0%ae%9a%e0%ae%a9%e0%af%8d%e0%ae%ae%e0%ae%be%e0%ae%b0%e0%af%8d%e0%ae%95%e0%ae%ae%e0%af%81%e0%ae%ae%e0%af%8d-%e0%ae%aa%e0%af%8a%e0%ae%b0%e0%af%81%e0%ae%b3%e0%af%8d-%e0%ae%88%e0%ae%9f%e0%af%8d-4/
LOCATION:Vadalur\, Vadalur Sri Jothi Ramalinga Swamigal Sanamarkka Sangam ( Bengaluru sangam )\, Karunai Ilam\, Kalpattu ayya nagar\, Vadalur\, Tamil Nadu\, 607303\, India
CATEGORIES:Vadalur
END:VEVENT
BEGIN:VEVENT
DTSTART;TZID=UTC:20251022T140000
DTEND;TZID=UTC:20251022T170000
DTSTAMP:20260419T183916
CREATED:20250303T072933Z
LAST-MODIFIED:20250303T072933Z
UID:2428-1761141600-1761152400@sanmarkkam.org
SUMMARY:Initial Interview / Open Counselling Session
DESCRIPTION:Who can attend : 1. Anyone who can code. 2. Those with degrees related to computer science such as BE(CS)\, Bsc(CS) \, BCA\, MCA\, ME(CS) Msc(CS) etc.\,
URL:https://sanmarkkam.org/event/initial-interview-open-counselling-session-34/
LOCATION:Vadalur\, Vadalur Sri Jothi Ramalinga Swamigal Sanamarkka Sangam ( Bengaluru sangam )\, Karunai Ilam\, Kalpattu ayya nagar\, Vadalur\, Tamil Nadu\, 607303\, India
CATEGORIES:Vadalur
END:VEVENT
BEGIN:VEVENT
DTSTART;TZID=UTC:20251029T140000
DTEND;TZID=UTC:20251029T170000
DTSTAMP:20260419T183916
CREATED:20250303T073032Z
LAST-MODIFIED:20250303T073032Z
UID:2430-1761746400-1761757200@sanmarkkam.org
SUMMARY:Initial Interview / Open Counselling Session
DESCRIPTION:Who can attend : 1. Anyone who can code. 2. Those with degrees related to computer science such as BE(CS)\, Bsc(CS) \, BCA\, MCA\, ME(CS) Msc(CS) etc.\,
URL:https://sanmarkkam.org/event/initial-interview-open-counselling-session-35/
LOCATION:Vadalur\, Vadalur Sri Jothi Ramalinga Swamigal Sanamarkka Sangam ( Bengaluru sangam )\, Karunai Ilam\, Kalpattu ayya nagar\, Vadalur\, Tamil Nadu\, 607303\, India
CATEGORIES:Vadalur
END:VEVENT
END:VCALENDAR