BEGIN:VCALENDAR
VERSION:2.0
PRODID:-//Sanmarkkam - ECPv6.15.20//NONSGML v1.0//EN
CALSCALE:GREGORIAN
METHOD:PUBLISH
X-WR-CALNAME:Sanmarkkam
X-ORIGINAL-URL:https://sanmarkkam.org
X-WR-CALDESC:Events for Sanmarkkam
REFRESH-INTERVAL;VALUE=DURATION:PT1H
X-Robots-Tag:noindex
X-PUBLISHED-TTL:PT1H
BEGIN:VTIMEZONE
TZID:UTC
BEGIN:STANDARD
TZOFFSETFROM:+0000
TZOFFSETTO:+0000
TZNAME:UTC
DTSTART:20240101T000000
END:STANDARD
END:VTIMEZONE
BEGIN:VEVENT
DTSTART;TZID=UTC:20250101T140000
DTEND;TZID=UTC:20250101T170000
DTSTAMP:20260420T081924
CREATED:20240718T051315Z
LAST-MODIFIED:20240801T071426Z
UID:2139-1735740000-1735750800@sanmarkkam.org
SUMMARY:IT employment assessment
DESCRIPTION:Who can attend : 1. Anyone who can code. 2. Those with degrees related to computer science such as BE(CS)\, Bsc(CS) \, BCA\, MCA\, ME(CS) Msc(CS) etc.\,
URL:https://sanmarkkam.org/event/it-employment-assessment-25/
LOCATION:Vadalur\, Vadalur Sri Jothi Ramalinga Swamigal Sanamarkka Sangam ( Bengaluru sangam )\, Karunai Ilam\, Kalpattu ayya nagar\, Vadalur\, Tamil Nadu\, 607303\, India
CATEGORIES:Vadalur
END:VEVENT
BEGIN:VEVENT
DTSTART;TZID=UTC:20250108T140000
DTEND;TZID=UTC:20250108T170000
DTSTAMP:20260420T081924
CREATED:20240718T051343Z
LAST-MODIFIED:20240801T071454Z
UID:2141-1736344800-1736355600@sanmarkkam.org
SUMMARY:IT employment assessment
DESCRIPTION:Who can attend : 1. Anyone who can code. 2. Those with degrees related to computer science such as BE(CS)\, Bsc(CS) \, BCA\, MCA\, ME(CS) Msc(CS) etc.\,
URL:https://sanmarkkam.org/event/it-employment-assessment-26/
LOCATION:Vadalur\, Vadalur Sri Jothi Ramalinga Swamigal Sanamarkka Sangam ( Bengaluru sangam )\, Karunai Ilam\, Kalpattu ayya nagar\, Vadalur\, Tamil Nadu\, 607303\, India
CATEGORIES:Vadalur
END:VEVENT
BEGIN:VEVENT
DTSTART;TZID=UTC:20250122T140000
DTEND;TZID=UTC:20250122T170000
DTSTAMP:20260420T081924
CREATED:20240718T051505Z
LAST-MODIFIED:20240801T071544Z
UID:2145-1737554400-1737565200@sanmarkkam.org
SUMMARY:IT employment assessment
DESCRIPTION:Who can attend : 1. Anyone who can code. 2. Those with degrees related to computer science such as BE(CS)\, Bsc(CS) \, BCA\, MCA\, ME(CS) Msc(CS) etc.\,
URL:https://sanmarkkam.org/event/it-employment-assessment-28/
LOCATION:Vadalur\, Vadalur Sri Jothi Ramalinga Swamigal Sanamarkka Sangam ( Bengaluru sangam )\, Karunai Ilam\, Kalpattu ayya nagar\, Vadalur\, Tamil Nadu\, 607303\, India
CATEGORIES:Vadalur
END:VEVENT
BEGIN:VEVENT
DTSTART;TZID=UTC:20250129T140000
DTEND;TZID=UTC:20250129T170000
DTSTAMP:20260420T081924
CREATED:20240718T051529Z
LAST-MODIFIED:20240801T071606Z
UID:2147-1738159200-1738170000@sanmarkkam.org
SUMMARY:IT employment assessment
DESCRIPTION:Who can attend : 1. Anyone who can code. 2. Those with degrees related to computer science such as BE(CS)\, Bsc(CS) \, BCA\, MCA\, ME(CS) Msc(CS) etc.\,
URL:https://sanmarkkam.org/event/it-employment-assessment-29/
LOCATION:Vadalur\, Vadalur Sri Jothi Ramalinga Swamigal Sanamarkka Sangam ( Bengaluru sangam )\, Karunai Ilam\, Kalpattu ayya nagar\, Vadalur\, Tamil Nadu\, 607303\, India
CATEGORIES:Vadalur
END:VEVENT
END:VCALENDAR