BEGIN:VCALENDAR
VERSION:2.0
PRODID:-//Sanmarkkam - ECPv6.15.20//NONSGML v1.0//EN
CALSCALE:GREGORIAN
METHOD:PUBLISH
X-ORIGINAL-URL:https://sanmarkkam.org
X-WR-CALDESC:Events for Sanmarkkam
REFRESH-INTERVAL;VALUE=DURATION:PT1H
X-Robots-Tag:noindex
X-PUBLISHED-TTL:PT1H
BEGIN:VTIMEZONE
TZID:UTC
BEGIN:STANDARD
TZOFFSETFROM:+0000
TZOFFSETTO:+0000
TZNAME:UTC
DTSTART:20230101T000000
END:STANDARD
END:VTIMEZONE
BEGIN:VEVENT
DTSTART;TZID=UTC:20240416T090000
DTEND;TZID=UTC:20240416T170000
DTSTAMP:20260420T222920
CREATED:20240428T061933Z
LAST-MODIFIED:20240430T051300Z
UID:1265-1713258000-1713286800@sanmarkkam.org
SUMMARY:Walk-in drive
DESCRIPTION:
URL:https://sanmarkkam.org/event/walk-in-drive/
LOCATION:Vadalur\, Vadalur Sri Jothi Ramalinga Swamigal Sanamarkka Sangam ( Bengaluru sangam )\, Karunai Ilam\, Kalpattu ayya nagar\, Vadalur\, Tamil Nadu\, 607303\, India
CATEGORIES:Vadalur
END:VEVENT
END:VCALENDAR