BEGIN:VCALENDAR
VERSION:2.0
PRODID:-//Sanmarkkam - ECPv6.15.20//NONSGML v1.0//EN
CALSCALE:GREGORIAN
METHOD:PUBLISH
X-ORIGINAL-URL:https://sanmarkkam.org
X-WR-CALDESC:Events for Sanmarkkam
REFRESH-INTERVAL;VALUE=DURATION:PT1H
X-Robots-Tag:noindex
X-PUBLISHED-TTL:PT1H
BEGIN:VTIMEZONE
TZID:UTC
BEGIN:STANDARD
TZOFFSETFROM:+0000
TZOFFSETTO:+0000
TZNAME:UTC
DTSTART:20240101T000000
END:STANDARD
END:VTIMEZONE
BEGIN:VEVENT
DTSTART;TZID=UTC:20250113T090000
DTEND;TZID=UTC:20250113T170000
DTSTAMP:20260419T213220
CREATED:20250103T155838Z
LAST-MODIFIED:20250103T160253Z
UID:2306-1736758800-1736787600@sanmarkkam.org
SUMMARY:IT employment opportunities workshop for non CS graduates
DESCRIPTION:
URL:https://sanmarkkam.org/event/it-employment-opportunities-workshop-for-non-cs-graduates-23/
LOCATION:Bengaluru\, Vadalur Sri Jothi Ramalinga Swamigal Sanamarkka Sangam\, 5th Cross Rd\, Lakshminarayanapuram\, Srirampura\, Karnataka\, 560021\, India
CATEGORIES:Bangalore
END:VEVENT
END:VCALENDAR